BEGIN:VCALENDAR
VERSION:2.0
PRODID:Teaching Reading Vocabulary - Webinar - Advanced registration requir
 ed!
BEGIN:VEVENT
UID:69e744738166d
DTSTART:20250924T180000Z
SEQUENCE:0
TRANSP:OPAQUE
DTEND:20250924T200000Z
LOCATION:Virtual via Zoom\nSt. Paul (Central Time)\, MN\n55114
SUMMARY:Teaching Reading Vocabulary - Webinar - Advanced registration requi
 red!
CLASS:PUBLIC
DTSTAMP:20260421T093339Z
END:VEVENT
END:VCALENDAR