BEGIN:VCALENDAR
VERSION:2.0
PRODID:Refining Your Teacher Talk - Webinar - Advanced registration require
 d!
BEGIN:VEVENT
UID:69e4ea49119be
DTSTART:20240322T180000Z
SEQUENCE:0
TRANSP:OPAQUE
DTEND:20240322T200000Z
LOCATION:700 Raymond Avenue\nSt. Paul\, MN\n55114
SUMMARY:Refining Your Teacher Talk - Webinar - Advanced registration requir
 ed!
CLASS:PUBLIC
DTSTAMP:20260419T144425Z
END:VEVENT
END:VCALENDAR