BEGIN:VCALENDAR
VERSION:2.0
PRODID:Karen History\, Culture and Language and the Adult Education Classro
 om presented by the Karen Organization of Minnesota - Webinar - Advanced r
 egistration required!
BEGIN:VEVENT
UID:69e4e8f00145e
DTSTART:20231115T160000Z
SEQUENCE:0
TRANSP:OPAQUE
DTEND:20231115T180000Z
LOCATION:700 Raymond Avenue\nSt. Paul\, MN\n55114
SUMMARY:Karen History\, Culture and Language and the Adult Education Classr
 oom presented by the Karen Organization of Minnesota - Webinar - Advanced 
 registration required!
CLASS:PUBLIC
DTSTAMP:20260419T143840Z
END:VEVENT
END:VCALENDAR