BEGIN:VCALENDAR
VERSION:2.0
PRODID:Core Training Module 4: Instructional Best Practices: Working with M
 aterials - Webinar - Advanced registration required!
BEGIN:VEVENT
UID:69e65f9423589
DTSTART:20231024T233000Z
SEQUENCE:0
TRANSP:OPAQUE
DTEND:20231025T013000Z
LOCATION:700 Raymond Avenue\nSt. Paul\, MN\n55114
SUMMARY:Core Training Module 4: Instructional Best Practices: Working with 
 Materials - Webinar - Advanced registration required!
CLASS:PUBLIC
DTSTAMP:20260420T171708Z
END:VEVENT
END:VCALENDAR