BEGIN:VCALENDAR
VERSION:2.0
PRODID:Core Training Module 3: Instructional Best Practices: Working with L
 earners - Webinar - Advanced registration required!
BEGIN:VEVENT
UID:69e4eb0e7c43e
DTSTART:20230920T233000Z
SEQUENCE:0
TRANSP:OPAQUE
DTEND:20230921T013000Z
LOCATION:700 Raymond Avenue\nSt. Paul\, MN\n55114
SUMMARY:Core Training Module 3: Instructional Best Practices: Working with 
 Learners - Webinar - Advanced registration required!
CLASS:PUBLIC
DTSTAMP:20260419T144742Z
END:VEVENT
END:VCALENDAR