BEGIN:VCALENDAR
VERSION:2.0
PRODID:Core Training Module 1: Overview of Minnesota Adult Education and Pr
 ogram Accountability - Webinar - Advanced registration required!
BEGIN:VEVENT
UID:69e65ebd6a4b3
DTSTART:20231107T190000Z
SEQUENCE:0
TRANSP:OPAQUE
DTEND:20231107T210000Z
LOCATION:700 Raymond Avenue\nSt. Paul\, MN\n55114
SUMMARY:Core Training Module 1: Overview of Minnesota Adult Education and P
 rogram Accountability - Webinar - Advanced registration required!
CLASS:PUBLIC
DTSTAMP:20260420T171333Z
END:VEVENT
END:VCALENDAR