BEGIN:VCALENDAR
VERSION:2.0
PRODID:Writing Activities for Beginning Literacy and Beginning English Lang
 uage Learners - In person at the Literacy Minnesota main office
BEGIN:VEVENT
UID:69e4ee29e58b1
DTSTART:20230727T150000Z
SEQUENCE:0
TRANSP:OPAQUE
DTEND:20230727T170000Z
LOCATION:700 Raymond Avenue\nSt. Paul\, MN\n55114
SUMMARY:Writing Activities for Beginning Literacy and Beginning English Lan
 guage Learners - In person at the Literacy Minnesota main office
CLASS:PUBLIC
DTSTAMP:20260419T150057Z
END:VEVENT
END:VCALENDAR