BEGIN:VCALENDAR
VERSION:2.0
PRODID:Teaching Reading Vocabulary Remotely or In Person - Webinar - Advanc
 ed registration required!
BEGIN:VEVENT
UID:69e51fc812aba
DTSTART:20230824T233000Z
SEQUENCE:0
TRANSP:OPAQUE
DTEND:20230825T013000Z
LOCATION:700 Raymond Avenue\nSt. Paul\, MN\n55114
SUMMARY:Teaching Reading Vocabulary Remotely or In Person - Webinar - Advan
 ced registration required!
CLASS:PUBLIC
DTSTAMP:20260419T183240Z
END:VEVENT
END:VCALENDAR