BEGIN:VCALENDAR
VERSION:2.0
PRODID:Solidarity Not Charity: Challenging the White Savior Complex in Adul
 t Education - Webinar - Advanced registration required!
BEGIN:VEVENT
UID:69e521aaaae4a
DTSTART:20230822T180000Z
SEQUENCE:0
TRANSP:OPAQUE
DTEND:20230822T200000Z
LOCATION:700 Raymond Avenue\nSt. Paul\, MN\n55114
SUMMARY:Solidarity Not Charity: Challenging the White Savior Complex in Adu
 lt Education - Webinar - Advanced registration required!
CLASS:PUBLIC
DTSTAMP:20260419T184042Z
END:VEVENT
END:VCALENDAR