BEGIN:VCALENDAR
VERSION:2.0
PRODID:Teaching Citizenship - Webinar - Advanced registration required!
BEGIN:VEVENT
UID:69e51fe77b54c
DTSTART:20230515T233000Z
SEQUENCE:0
TRANSP:OPAQUE
DTEND:20230516T013000Z
LOCATION:700 Raymond Avenue\nSt. Paul\, MN\n55114
SUMMARY:Teaching Citizenship - Webinar - Advanced registration required!
CLASS:PUBLIC
DTSTAMP:20260419T183311Z
END:VEVENT
END:VCALENDAR