BEGIN:VCALENDAR
VERSION:2.0
PRODID:Essential Zoom Skills for Online Instruction - Webinar - Advanced re
 gistration required!
BEGIN:VEVENT
UID:69e65e6567745
DTSTART:20230630T180000Z
SEQUENCE:0
TRANSP:OPAQUE
DTEND:20230630T200000Z
LOCATION:700 Raymond Avenue\nSt. Paul\, MN\n55114
SUMMARY:Essential Zoom Skills for Online Instruction - Webinar - Advanced r
 egistration required!
CLASS:PUBLIC
DTSTAMP:20260420T171205Z
END:VEVENT
END:VCALENDAR