BEGIN:VCALENDAR
VERSION:2.0
PRODID:Teaching Reading Vocabulary Remotely or In Person - Webinar - Advanc
 ed registration required!
BEGIN:VEVENT
UID:69e4e93e10a11
DTSTART:20230411T233000Z
SEQUENCE:0
TRANSP:OPAQUE
DTEND:20230412T013000Z
LOCATION:700 Raymond Avenue\nSt. Paul\, MN\n55114
SUMMARY:Teaching Reading Vocabulary Remotely or In Person - Webinar - Advan
 ced registration required!
CLASS:PUBLIC
DTSTAMP:20260419T143958Z
END:VEVENT
END:VCALENDAR