BEGIN:VCALENDAR
VERSION:2.0
PRODID:How Adult Brains Learn Languages - Webinar - Advanced registration r
 equired!
BEGIN:VEVENT
UID:69e50679a60c7
DTSTART:20230216T003000Z
SEQUENCE:0
TRANSP:OPAQUE
DTEND:20230216T023000Z
LOCATION:700 Raymond Avenue\nSt. Paul\, MN\n55114
SUMMARY:How Adult Brains Learn Languages - Webinar - Advanced registration 
 required!
CLASS:PUBLIC
DTSTAMP:20260419T164441Z
END:VEVENT
END:VCALENDAR