BEGIN:VCALENDAR
VERSION:2.0
PRODID:LGBTQIA+ Topics in ABE Spaces - Webinar - Advanced registration requ
 ired!
BEGIN:VEVENT
UID:69e505b8ab715
DTSTART:20221216T190000Z
SEQUENCE:0
TRANSP:OPAQUE
DTEND:20221216T210000Z
LOCATION:700 Raymond Avenue\nSt. Paul\, MN\n55114
SUMMARY:LGBTQIA+ Topics in ABE Spaces - Webinar - Advanced registration req
 uired!
CLASS:PUBLIC
DTSTAMP:20260419T164128Z
END:VEVENT
END:VCALENDAR