BEGIN:VCALENDAR
VERSION:2.0
PRODID:Helping Students Build Word Part Knowledge - Webinar - Advanced regi
 stration required!
BEGIN:VEVENT
UID:69e5066070f58
DTSTART:20221118T190000Z
SEQUENCE:0
TRANSP:OPAQUE
DTEND:20221118T210000Z
LOCATION:700 Raymond Avenue\nSt. Paul\, MN\n55114
SUMMARY:Helping Students Build Word Part Knowledge - Webinar - Advanced reg
 istration required!
CLASS:PUBLIC
DTSTAMP:20260419T164416Z
END:VEVENT
END:VCALENDAR