BEGIN:VCALENDAR
VERSION:2.0
PRODID:CANCELLED Helping Students Build Word Part Knowledge - Webinar - Adv
 anced registration required!
BEGIN:VEVENT
UID:69e521beb465f
DTSTART:20221018T233000Z
SEQUENCE:0
TRANSP:OPAQUE
DTEND:20221019T013000Z
LOCATION:700 Raymond Avenue\nSt. Paul\, MN\n55114
SUMMARY:CANCELLED Helping Students Build Word Part Knowledge - Webinar - Ad
 vanced registration required!
CLASS:PUBLIC
DTSTAMP:20260419T184102Z
END:VEVENT
END:VCALENDAR