BEGIN:VCALENDAR
VERSION:2.0
PRODID:Reading Activities for Beginning Literacy and Beginning English Lang
 uage Learners - Webinar - Advanced registration required!
BEGIN:VEVENT
UID:69e51f8249dca
DTSTART:20221115T003000Z
SEQUENCE:0
TRANSP:OPAQUE
DTEND:20221115T023000Z
LOCATION:700 Raymond Avenue\nSt. Paul\, MN\n55114
SUMMARY:Reading Activities for Beginning Literacy and Beginning English Lan
 guage Learners - Webinar - Advanced registration required!
CLASS:PUBLIC
DTSTAMP:20260419T183130Z
END:VEVENT
END:VCALENDAR