BEGIN:VCALENDAR
VERSION:2.0
PRODID:Writing Activities for Beginning Literacy and Beginning English Lang
 uage Learners - Webinar - Advanced registration required!
BEGIN:VEVENT
UID:69e558fd2c602
DTSTART:20221026T233000Z
SEQUENCE:0
TRANSP:OPAQUE
DTEND:20221027T013000Z
LOCATION:700 Raymond Avenue\nSt. Paul\, MN\n55114
SUMMARY:Writing Activities for Beginning Literacy and Beginning English Lan
 guage Learners - Webinar - Advanced registration required!
CLASS:PUBLIC
DTSTAMP:20260419T223645Z
END:VEVENT
END:VCALENDAR