BEGIN:VCALENDAR
VERSION:2.0
PRODID:Reading Activities for Beginning Literacy and Beginning English Lang
 uage Learners - In person at the Literacy Minnesota main office
BEGIN:VEVENT
UID:69e50bb4107d7
DTSTART:20221019T150000Z
SEQUENCE:0
TRANSP:OPAQUE
DTEND:20221019T170000Z
LOCATION:700 Raymond Avenue\nSt. Paul\, MN\n55114
SUMMARY:Reading Activities for Beginning Literacy and Beginning English Lan
 guage Learners - In person at the Literacy Minnesota main office
CLASS:PUBLIC
DTSTAMP:20260419T170700Z
END:VEVENT
END:VCALENDAR