BEGIN:VCALENDAR
VERSION:2.0
PRODID:Core Training Module 3: Instructional Best Practices: Working with L
 earners - Webinar - Advanced registration required!
BEGIN:VEVENT
UID:69e5071fdbcfe
DTSTART:20221115T160000Z
SEQUENCE:0
TRANSP:OPAQUE
DTEND:20221115T180000Z
LOCATION:700 Raymond Avenue\nSt. Paul\, MN\n55114
SUMMARY:Core Training Module 3: Instructional Best Practices: Working with 
 Learners - Webinar - Advanced registration required!
CLASS:PUBLIC
DTSTAMP:20260419T164727Z
END:VEVENT
END:VCALENDAR