BEGIN:VCALENDAR
VERSION:2.0
PRODID:Core Training Module 1: Overview of Minnesota Adult Education and Pr
 ogram Accountability - Webinar - Advanced registration required!
BEGIN:VEVENT
UID:69e5059a20751
DTSTART:20220907T233000Z
SEQUENCE:0
TRANSP:OPAQUE
DTEND:20220908T013000Z
LOCATION:700 Raymond Avenue\nSt. Paul\, MN\n55114
SUMMARY:Core Training Module 1: Overview of Minnesota Adult Education and P
 rogram Accountability - Webinar - Advanced registration required!
CLASS:PUBLIC
DTSTAMP:20260419T164058Z
END:VEVENT
END:VCALENDAR