BEGIN:VCALENDAR
VERSION:2.0
PRODID:Cultural Perspectives for Diverse Adult Learners - Webinar - Advance
 d registration required!
BEGIN:VEVENT
UID:69e50b317afb5
DTSTART:20220804T150000Z
SEQUENCE:0
TRANSP:OPAQUE
DTEND:20220804T170000Z
LOCATION:700 Raymond Avenue\nSt. Paul\, MN\n55114
SUMMARY:Cultural Perspectives for Diverse Adult Learners - Webinar - Advanc
 ed registration required!
CLASS:PUBLIC
DTSTAMP:20260419T170449Z
END:VEVENT
END:VCALENDAR