BEGIN:VCALENDAR
VERSION:2.0
PRODID:A Volunteer’s Introduction to Universal Design for Learning - Webi
 nar - Advanced registration required!
BEGIN:VEVENT
UID:69e504d59d000
DTSTART:20220713T180000Z
SEQUENCE:0
TRANSP:OPAQUE
DTEND:20220713T200000Z
LOCATION:700 Raymond Avenue\nSt. Paul\, MN\n55114
SUMMARY:A Volunteer’s Introduction to Universal Design for Learning - Web
 inar - Advanced registration required!
CLASS:PUBLIC
DTSTAMP:20260419T163741Z
END:VEVENT
END:VCALENDAR