BEGIN:VCALENDAR
VERSION:2.0
PRODID:Comprehension Strategies for Intermediate-Level Readers - Webinar - 
 Advanced registration required!
BEGIN:VEVENT
UID:69e4ea674d919
DTSTART:20220607T180000Z
SEQUENCE:0
TRANSP:OPAQUE
DTEND:20220607T200000Z
LOCATION:700 Raymond Avenue\nSt. Paul\, MN\n55114
SUMMARY:Comprehension Strategies for Intermediate-Level Readers - Webinar -
  Advanced registration required!
CLASS:PUBLIC
DTSTAMP:20260419T144455Z
END:VEVENT
END:VCALENDAR