BEGIN:VCALENDAR
VERSION:2.0
PRODID:Accent Bias and Discrimination in the United States - Webinar - Adva
 nced registration required!
BEGIN:VEVENT
UID:69e4eeaef3dae
DTSTART:20220518T233000Z
SEQUENCE:0
TRANSP:OPAQUE
DTEND:20220519T013000Z
LOCATION:700 Raymond Avenue\nSt. Paul\, MN\n55114
SUMMARY:Accent Bias and Discrimination in the United States - Webinar - Adv
 anced registration required!
CLASS:PUBLIC
DTSTAMP:20260419T150311Z
END:VEVENT
END:VCALENDAR