BEGIN:VCALENDAR
VERSION:2.0
PRODID:Core Training Module 2: Understanding Adult Learners - Webinar - Adv
 anced registration required!
BEGIN:VEVENT
UID:69e54da62cb26
DTSTART:20220509T233000Z
SEQUENCE:0
TRANSP:OPAQUE
DTEND:20220510T013000Z
LOCATION:700 Raymond Avenue\nSt. Paul\, MN\n55114
SUMMARY:Core Training Module 2: Understanding Adult Learners - Webinar - Ad
 vanced registration required!
CLASS:PUBLIC
DTSTAMP:20260419T214822Z
END:VEVENT
END:VCALENDAR