BEGIN:VCALENDAR
VERSION:2.0
PRODID:Please Say That Again: Pronunciation Instruction for Adult ESL Learn
 ers - Webinar - Advanced registration required!
BEGIN:VEVENT
UID:69e50a3dea127
DTSTART:20220429T180000Z
SEQUENCE:0
TRANSP:OPAQUE
DTEND:20220429T200000Z
LOCATION:700 Raymond Avenue\nSt. Paul\, MN\n55114
SUMMARY:Please Say That Again: Pronunciation Instruction for Adult ESL Lear
 ners - Webinar - Advanced registration required!
CLASS:PUBLIC
DTSTAMP:20260419T170045Z
END:VEVENT
END:VCALENDAR