BEGIN:VCALENDAR
VERSION:2.0
PRODID:LGBTQIA+ Topics in ABE Spaces - Webinar - Advanced registration requ
 ired!
BEGIN:VEVENT
UID:69e5017acd5f9
DTSTART:20220204T160000Z
SEQUENCE:0
TRANSP:OPAQUE
DTEND:20220204T180000Z
LOCATION:700 Raymond Avenue\nSt. Paul\, MN\n55114
SUMMARY:LGBTQIA+ Topics in ABE Spaces - Webinar - Advanced registration req
 uired!
CLASS:PUBLIC
DTSTAMP:20260419T162322Z
END:VEVENT
END:VCALENDAR