BEGIN:VCALENDAR
VERSION:2.0
PRODID:Refining Your Teacher Talk - Webinar - Advanced registration require
 d!
BEGIN:VEVENT
UID:69e51f6229572
DTSTART:20220208T160000Z
SEQUENCE:0
TRANSP:OPAQUE
DTEND:20220208T180000Z
LOCATION:700 Raymond Avenue\nSt. Paul\, MN\n55114
SUMMARY:Refining Your Teacher Talk - Webinar - Advanced registration requir
 ed!
CLASS:PUBLIC
DTSTAMP:20260419T183058Z
END:VEVENT
END:VCALENDAR