BEGIN:VCALENDAR
VERSION:2.0
PRODID:Comprehension Strategies for Intermediate-Level Readers - Webinar - 
 Advanced registration required!
BEGIN:VEVENT
UID:69e506cc0a326
DTSTART:20220330T180000Z
SEQUENCE:0
TRANSP:OPAQUE
DTEND:20220330T200000Z
LOCATION:700 Raymond Avenue\nSt. Paul\, MN\n55114
SUMMARY:Comprehension Strategies for Intermediate-Level Readers - Webinar -
  Advanced registration required!
CLASS:PUBLIC
DTSTAMP:20260419T164604Z
END:VEVENT
END:VCALENDAR