BEGIN:VCALENDAR
VERSION:2.0
PRODID:Comprehension Strategies for Intermediate-Level Readers - Webinar - 
 Advanced registration required!
BEGIN:VEVENT
UID:69e4ea106208d
DTSTART:20220216T003000Z
SEQUENCE:0
TRANSP:OPAQUE
DTEND:20220216T023000Z
LOCATION:700 Raymond Avenue\nSt. Paul\, MN\n55114
SUMMARY:Comprehension Strategies for Intermediate-Level Readers - Webinar -
  Advanced registration required!
CLASS:PUBLIC
DTSTAMP:20260419T144328Z
END:VEVENT
END:VCALENDAR