BEGIN:VCALENDAR
VERSION:2.0
PRODID:Tips and Strategies for Adult Education Math Tutors - Webinar - Adva
 nced registration required!
BEGIN:VEVENT
UID:69e50b661fcca
DTSTART:20220119T160000Z
SEQUENCE:0
TRANSP:OPAQUE
DTEND:20220119T180000Z
LOCATION:700 Raymond Avenue\nSt. Paul\, MN\n55114
SUMMARY:Tips and Strategies for Adult Education Math Tutors - Webinar - Adv
 anced registration required!
CLASS:PUBLIC
DTSTAMP:20260419T170542Z
END:VEVENT
END:VCALENDAR