BEGIN:VCALENDAR
VERSION:2.0
PRODID:Core Training Module 2: Understanding Adult Learners - Webinar - Adv
 anced registration required!
BEGIN:VEVENT
UID:69e506574a860
DTSTART:20220210T003000Z
SEQUENCE:0
TRANSP:OPAQUE
DTEND:20220210T023000Z
LOCATION:700 Raymond Avenue\nSt. Paul\, MN\n55114
SUMMARY:Core Training Module 2: Understanding Adult Learners - Webinar - Ad
 vanced registration required!
CLASS:PUBLIC
DTSTAMP:20260419T164407Z
END:VEVENT
END:VCALENDAR