BEGIN:VCALENDAR
VERSION:2.0
PRODID:Developing and Practicing Reading Fluency - Webinar - Advanced Regis
 tration Required!
BEGIN:VEVENT
UID:69e51fc80f4a5
DTSTART:20211109T003000Z
SEQUENCE:0
TRANSP:OPAQUE
DTEND:20211109T023000Z
LOCATION:700 Raymond Avenue\nSt. Paul\, MN\n55114
SUMMARY:Developing and Practicing Reading Fluency - Webinar - Advanced Regi
 stration Required!
CLASS:PUBLIC
DTSTAMP:20260419T183240Z
END:VEVENT
END:VCALENDAR