BEGIN:VCALENDAR
VERSION:2.0
PRODID:Teaching Reading Vocabulary Remotely or In Person - Webinar - Advanc
 ed registration required!
BEGIN:VEVENT
UID:69e5053198ba5
DTSTART:20211018T180000Z
SEQUENCE:0
TRANSP:OPAQUE
DTEND:20211018T200000Z
LOCATION:700 Raymond Avenue\nSt. Paul\, MN\n55114
SUMMARY:Teaching Reading Vocabulary Remotely or In Person - Webinar - Advan
 ced registration required!
CLASS:PUBLIC
DTSTAMP:20260419T163913Z
END:VEVENT
END:VCALENDAR