BEGIN:VCALENDAR
VERSION:2.0
PRODID:Core Training Module 3: Instructional Best Practices: Working with L
 earners - Webinar - Advanced registration required!
BEGIN:VEVENT
UID:69e5205dd024d
DTSTART:20211020T233000Z
SEQUENCE:0
TRANSP:OPAQUE
DTEND:20211021T013000Z
LOCATION:700 Raymond Avenue\nSt. Paul\, MN\n55114
SUMMARY:Core Training Module 3: Instructional Best Practices: Working with 
 Learners - Webinar - Advanced registration required!
CLASS:PUBLIC
DTSTAMP:20260419T183509Z
END:VEVENT
END:VCALENDAR