BEGIN:VCALENDAR
VERSION:2.0
PRODID:Core Training Module 2: Understanding Adult Learners - Webinar - Adv
 anced registration required!
BEGIN:VEVENT
UID:69e505d39498e
DTSTART:20211209T003000Z
SEQUENCE:0
TRANSP:OPAQUE
DTEND:20211209T023000Z
LOCATION:700 Raymond Avenue\nSt. Paul\, MN\n55114
SUMMARY:Core Training Module 2: Understanding Adult Learners - Webinar - Ad
 vanced registration required!
CLASS:PUBLIC
DTSTAMP:20260419T164155Z
END:VEVENT
END:VCALENDAR