BEGIN:VCALENDAR
VERSION:2.0
PRODID:Core Training Module 1: Overview of Minnesota Adult Education and Pr
 ogram Accountability - Webinar - Advanced registration required!
BEGIN:VEVENT
UID:69e4e9e44f91d
DTSTART:20211207T003000Z
SEQUENCE:0
TRANSP:OPAQUE
DTEND:20211207T023000Z
LOCATION:700 Raymond Avenue\nSt. Paul\, MN\n55114
SUMMARY:Core Training Module 1: Overview of Minnesota Adult Education and P
 rogram Accountability - Webinar - Advanced registration required!
CLASS:PUBLIC
DTSTAMP:20260419T144244Z
END:VEVENT
END:VCALENDAR