BEGIN:VCALENDAR
VERSION:2.0
PRODID:Core Training Module 1: Overview of Minnesota Adult Education and Pr
 ogram Accountability - Webinar - Advanced registration required!
BEGIN:VEVENT
UID:69e4e9a907435
DTSTART:20211102T233000Z
SEQUENCE:0
TRANSP:OPAQUE
DTEND:20211103T013000Z
LOCATION:700 Raymond Avenue\nSt. Paul\, MN\n55114
SUMMARY:Core Training Module 1: Overview of Minnesota Adult Education and P
 rogram Accountability - Webinar - Advanced registration required!
CLASS:PUBLIC
DTSTAMP:20260419T144145Z
END:VEVENT
END:VCALENDAR