BEGIN:VCALENDAR
VERSION:2.0
PRODID:Core Training Module 1: Overview of Minnesota Adult Education and Pr
 ogram Accountability - Webinar - Advanced registration required!
BEGIN:VEVENT
UID:69e52032c6589
DTSTART:20210909T233000Z
SEQUENCE:0
TRANSP:OPAQUE
DTEND:20210910T013000Z
LOCATION:700 Raymond Avenue\nSt. Paul\, MN\n55114
SUMMARY:Core Training Module 1: Overview of Minnesota Adult Education and P
 rogram Accountability - Webinar - Advanced registration required!
CLASS:PUBLIC
DTSTAMP:20260419T183426Z
END:VEVENT
END:VCALENDAR