BEGIN:VCALENDAR
VERSION:2.0
PRODID:Approaches and Activities to Support Writing Development - Webinar -
  Advanced registration required!
BEGIN:VEVENT
UID:69e5060c6b2aa
DTSTART:20211019T233000Z
SEQUENCE:0
TRANSP:OPAQUE
DTEND:20211020T013000Z
LOCATION:700 Raymond Avenue\nSt. Paul\, MN\n55114
SUMMARY:Approaches and Activities to Support Writing Development - Webinar 
 - Advanced registration required!
CLASS:PUBLIC
DTSTAMP:20260419T164252Z
END:VEVENT
END:VCALENDAR