BEGIN:VCALENDAR
VERSION:2.0
PRODID:I Hear You! Effective Listening Instruction for English Language Lea
 rners - Webinar - Advanced registration required!
BEGIN:VEVENT
UID:69e4eec089cd7
DTSTART:20210922T233000Z
SEQUENCE:0
TRANSP:OPAQUE
DTEND:20210923T013000Z
LOCATION:700 Raymond Avenue\nSt. Paul\, MN\n55114
SUMMARY:I Hear You! Effective Listening Instruction for English Language Le
 arners - Webinar - Advanced registration required!
CLASS:PUBLIC
DTSTAMP:20260419T150328Z
END:VEVENT
END:VCALENDAR