BEGIN:VCALENDAR
VERSION:2.0
PRODID:People with Disabilities Are the Best Teachers: Start Unlearning the
  Curriculum of Ableism - Webinar - Advanced registration required!
BEGIN:VEVENT
UID:69e4eeb57478e
DTSTART:20211109T160000Z
SEQUENCE:0
TRANSP:OPAQUE
DTEND:20211109T180000Z
LOCATION:700 Raymond Avenue\nSt. Paul\, MN\n55114
SUMMARY:People with Disabilities Are the Best Teachers: Start Unlearning th
 e Curriculum of Ableism - Webinar - Advanced registration required!
CLASS:PUBLIC
DTSTAMP:20260419T150317Z
END:VEVENT
END:VCALENDAR