BEGIN:VCALENDAR
VERSION:2.0
PRODID:Becoming More Culturally Responsive in Rural and Metro Communities -
  Webinar - Advanced registration required!
BEGIN:VEVENT
UID:69e4ef038244a
DTSTART:20211025T233000Z
SEQUENCE:0
TRANSP:OPAQUE
DTEND:20211026T013000Z
LOCATION:700 Raymond Avenue\nSt. Paul\, MN\n55114
SUMMARY:Becoming More Culturally Responsive in Rural and Metro Communities 
 - Webinar - Advanced registration required!
CLASS:PUBLIC
DTSTAMP:20260419T150435Z
END:VEVENT
END:VCALENDAR