BEGIN:VCALENDAR
VERSION:2.0
PRODID:Comprehension Strategies for Intermediate-Level Readers - Webinar - 
 Advanced registration required!
BEGIN:VEVENT
UID:69e4eefe3aaa4
DTSTART:20210830T233000Z
SEQUENCE:0
TRANSP:OPAQUE
DTEND:20210831T010000Z
LOCATION:700 Raymond Avenue\nSt. Paul\, MN\n55114
SUMMARY:Comprehension Strategies for Intermediate-Level Readers - Webinar -
  Advanced registration required!
CLASS:PUBLIC
DTSTAMP:20260419T150430Z
END:VEVENT
END:VCALENDAR