BEGIN:VCALENDAR
VERSION:2.0
PRODID:Remote Tutoring 101 - Webinar - Advanced registration required!
BEGIN:VEVENT
UID:69e55e1a2e166
DTSTART:20210826T150000Z
SEQUENCE:0
TRANSP:OPAQUE
DTEND:20210826T163000Z
LOCATION:700 Raymond Avenue\nSt. Paul\, MN\n55114
SUMMARY:Remote Tutoring 101 - Webinar - Advanced registration required!
CLASS:PUBLIC
DTSTAMP:20260419T225834Z
END:VEVENT
END:VCALENDAR