BEGIN:VCALENDAR
VERSION:2.0
PRODID:Accent Bias and Discrimination in the United States - Webinar - Adva
 nced registration required!
BEGIN:VEVENT
UID:69e4ee9612cc0
DTSTART:20210721T180000Z
SEQUENCE:0
TRANSP:OPAQUE
DTEND:20210721T200000Z
LOCATION:700 Raymond Avenue\nSt. Paul\, MN\n55114
SUMMARY:Accent Bias and Discrimination in the United States - Webinar - Adv
 anced registration required!
CLASS:PUBLIC
DTSTAMP:20260419T150246Z
END:VEVENT
END:VCALENDAR