BEGIN:VCALENDAR
VERSION:2.0
PRODID:Tips and Strategies for Adult Education Math Tutors - Webinar - Adva
 nced registration required!
BEGIN:VEVENT
UID:69e50af8366dc
DTSTART:20210618T150000Z
SEQUENCE:0
TRANSP:OPAQUE
DTEND:20210618T163000Z
LOCATION:700 Raymond Avenue\nSt. Paul\, MN\n55114
SUMMARY:Tips and Strategies for Adult Education Math Tutors - Webinar - Adv
 anced registration required!
CLASS:PUBLIC
DTSTAMP:20260419T170352Z
END:VEVENT
END:VCALENDAR