BEGIN:VCALENDAR
VERSION:2.0
PRODID:Getting Familiar with Zoom - Webinar - Open to Minnesota Residents O
 nly
BEGIN:VEVENT
UID:69e52064c7e27
DTSTART:20210513T230000Z
SEQUENCE:0
TRANSP:OPAQUE
DTEND:20210514T010000Z
LOCATION:700 Raymond Avenue\nSt. Paul\, MN\n55114
SUMMARY:Getting Familiar with Zoom - Webinar - Open to Minnesota Residents 
 Only
CLASS:PUBLIC
DTSTAMP:20260419T183516Z
END:VEVENT
END:VCALENDAR