BEGIN:VCALENDAR
VERSION:2.0
PRODID:Getting Familiar with Zoom - Webinar - Open to Minnesota Residents O
 nly
BEGIN:VEVENT
UID:69e51f824a7d6
DTSTART:20210330T230000Z
SEQUENCE:0
TRANSP:OPAQUE
DTEND:20210331T010000Z
LOCATION:700 Raymond Avenue\nSt. Paul\, MN\n55114
SUMMARY:Getting Familiar with Zoom - Webinar - Open to Minnesota Residents 
 Only
CLASS:PUBLIC
DTSTAMP:20260419T183130Z
END:VEVENT
END:VCALENDAR